Workbook
Name OLE_LINK3: '教學計畫表彙整表一'!$D$12

Sheet 教學計畫表
A1: 「兒童自我保護」教學計畫表與教學資源申請表
I2: 計畫書收文編號(由區辦承辦人員填寫)：
A3: 重要：請依您開課實施所在地，將計劃書E-mail或傳真至各地區辦公室，並來電確認。
P4: 區辦
P5: 計畫書填寫人
P6: 手機號碼
P7: Email
P8: 團隊名稱
P9: 執行年度
P10: 實施單位分類
P11: 進班學校/社區/教會/單位名稱
P12: 進班學校/教會/社區行政區
P13: 進班學校/教會/社區 鄉市鎮區
P14: 對象
P15: 特殊族群
... P34: ※ 教材訂購至寄發需7-15個工作天（不含假日），請預留時間，盡早提出。若有疑問，請洽各地區辦提出。若有疑問，請洽各地區辦公室。
A35: ※ 教學師資請填寫"師資與備課資料表"。
A37: 訂購單
A38: 訂購日期 | P38: 訂購編號 | Z38: (本欄為協會社事部填寫)
A39: 訂購人: | P39: 連絡電話
A40: 寄送地址:
A41: 收件人： | U41: 連絡電話
A42: 發票: | I42: 一般發票
I43: 需抬頭,請填寫
I44: 需統編,請填寫
A45: 項次 | D45: 產品名稱 | P45: 優惠價 | T45: 數量 | X45: 小計 | AC45: 備註
A46: 1 | D46: 學生活動本 | P46: 45 | X46: =P46*T46 -> 0
A47: 2 | D47: 學生活動本(訂購20套以上適用) | P47: 40 | X47: =P47*T47 -> 0
A48: 45323 | D48: 學生活動本(公益本-自付運費$100元) | P48: - | X48: - | AC48: 限校園執行申請使用，若額度已滿，恕請付費申購
A49: 3 | D49: 情緒智慧卡 | P49: 200 | T49: 0 | X49: =P49*T49 -> 0
A50: 4 | D50: 你們在教我孩子什麼 | P50: 320 | T50: 0 | X50: =P50*T50 -> 0
A51: 5 | D51: 性別平等教育教學資源手冊 | P51: 315 | T51: 0 | X51: =P51*T51 -> 0
A52: 6 | D52: 運費(訂購未滿1000元需加付100元運費) | P52: 100 | T52: 0 | X52: =P52*T52 -> 0
A53: 合計 | X53: =SUM(X46:AB52) -> 0
A54: 項次 | D54: 其他物品名稱 | T54: 說明
A55: 7 | D55: 教學電子檔 | T55: (1)填妥本計畫書寄區辦信箱並填妥同意書表單提交 https://forms.gle/DXh71nSvKyrHwzy17 (2)區辦審核通過，開放【教學資源雲端資料夾】使用權限
A56: 8 | D56: 自我保護課程問卷輸入確認清單與空白表格 | T56: 教學資源雲端資料夾
A57: 9 | D57: 師資教學回應表(按主教師資人數) | T57: https://forms.gle/uf185RRDRcqDap4y6
A58: 10 | D58: 師長回應表(按實施班級導師人數) | T58: https://forms.gle/5fF9BdvVsun1dutV6
A59: 是否附劃撥單 | T59: 區辦主責

Sheet 師資與備課資料表
A1: 「兒童自我保護」師資備課資料表 | AT1: 「兒童自我保護」備課資料表
A2: 班級 名稱 | E2: 主/助教 | I2: 師資姓名 | N2: 團隊名稱 | U2: 自我保護課程結訓 | AB2: 啟航結業 | AE2: 基礎結業 | AH2: 手機或學習護照編號 | AM2: EMAIL(上過基礎者，未更新免填） | AT2: 備課讀書會地點
AT3: 節數 | AU3: 備課日期 | AV3: 備課時間

Sheet 教學計畫表彙整表一
A1: 收文編號 | B1: 實施狀況 | C1: 問卷回覆狀況 | D1: 執行年度 | E1: 區辦 | F1: 計畫書填寫人 | G1: 團隊名稱 | H1: 實施單位分類 | I1: 進班學校/教會/單位名稱 | J1: 行政區 | K1: 鄉市鎮區 | L1: 第一次開課 | M1: 教學開始日期 | N1: 教學結束日期 | O1: 班級數 | P1: 預計人數 | Q1: 學生本(未滿20本) | R1: 學生本(20本以上) | S1: 學生本(公益本) | T1: 教師人數 | U1: 特殊族群 | V1: 實施方式 | W1: 總共節數 | X1: 每節時間(分鐘) | Y1: 總時數 (分鐘) | Z1: 總時數 (小時) | AB1: 實施單位 | AC1: 服務班級名稱 | AD1: 主/助教 | AE1: 師資姓名 | AF1: 所屬團隊
A2: ='教學計畫表'!AD2 | D2: ='教學計畫表'!Z9 | E2: ='教學計畫表'!Z4 | F2: ='教學計畫表'!Z5 | G2: ='教學計畫表'!Z8 | H2: ='教學計畫表'!Z10 | I2: ='教學計畫表'!Z11 | J2: ='教學計畫表'!Z12 | K2: ='教學計畫表'!Z13 | L2: ='教學計畫表'!Z17 | M2: ='教學計畫表'!Z19 | N2: ='教學計畫表'!Z20 | O2: ='教學計畫表'!Z16 | P2: ='教學計畫表'!Z18 | Q2: ='教學計畫表'!T46 | R2: ='教學計畫表'!T47 | S2: ='教學計畫表'!T48 | T2: ='教學計畫表'!Z25 | U2: ='教學計畫表'!Z15 | V2: ='教學計畫表'!Z21 | W2: ='教學計畫表'!Z23 | X2: ='教學計畫表'!Z24 | Y2: =W2*X2 -> 0 | Z2: =Y2/60 -> 0 | AB2: =I2 | AC2: ='師資與備課資料表'!A4 | AD2: ='師資與備課資料表'!E4 | AE2: ='師資與備課資料表'!I4 | AF2: ='師資與備課資料表'!N4
AC3: ='師資與備課資料表'!A5 | AD3: ='師資與備課資料表'!E5 | AE3: ='師資與備課資料表'!I5 | AF3: ='師資與備課資料表'!N5
AC4: ='師資與備課資料表'!A6 | AD4: ='師資與備課資料表'!E6 | AE4: ='師資與備課資料表'!I6 | AF4: ='師資與備課資料表'!N6
AC5: ='師資與備課資料表'!A7 | AD5: ='師資與備課資料表'!E7 | AE5: ='師資與備課資料表'!I7 | AF5: ='師資與備課資料表'!N7
AC6: ='師資與備課資料表'!A8 | AD6: ='師資與備課資料表'!E8 | AE6: ='師資與備課資料表'!I8 | AF6: ='師資與備課資料表'!N8
AC7: ='師資與備課資料表'!A9 | AD7: ='師資與備課資料表'!E9 | AE7: ='師資與備課資料表'!I9 | AF7: ='師資與備課資料表'!N9
AC8: ='師資與備課資料表'!A10 | AD8: ='師資與備課資料表'!E10 | AE8: ='師資與備課資料表'!I10 | AF8: ='師資與備課資料表'!N10
AC9: ='師資與備課資料表'!A11 | AD9: ='師資與備課資料表'!E11 | AE9: ='師資與備課資料表'!I11 | AF9: ='師資與備課資料表'!N11
AC10: ='師資與備課資料表'!A12 | AD10: ='師資與備課資料表'!E12 | AE10: ='師資與備課資料表'!I12 | AF10: ='師資與備課資料表'!N12
AC11: ='師資與備課資料表'!A13 | AD11: ='師資與備課資料表'!E13 | AE11: ='師資與備課資料表'!I13 | AF11: ='師資與備課資料表'!N13
AC12: ='師資與備課資料表'!A14 | AD12: ='師資與備課資料表'!E14 | AE12: ='師資與備課資料表'!I14 | AF12: ='師資與備課資料表'!N14
AC13: ='師資與備課資料表'!A15 | AD13: ='師資與備課資料表'!E15 | AE13: ='師資與備課資料表'!I15 | AF13: ='師資與備課資料表'!N15
AC14: ='師資與備課資料表'!A16 | AD14: ='師資與備課資料表'!E16 | AE14: ='師資與備課資料表'!I16 | AF14: ='師資與備課資料表'!N16
... AC21: ='師資與備課資料表'!A23 | AD21: ='師資與備課資料表'!E23 | AE21: ='師資與備課資料表'!I23 | AF21: ='師資與備課資料表'!N23

Sheet 選擇清單
A1: 區辦 | B1: 實施單位分類 | C1: 選擇 | D1: 對象 | E1: 實施方式 | F1: 說明 | G1: 啟航結業 | H1: 收據需求 | I1: 教學光碟索取方式 | J1: 行政區 | K1: 特殊群組 | L1: 主/助教 | M1: 自我保護課程訓練
A2: 北區 | B2: 國小 | C2: 是 | D2: 小一 | E2: 課程 | F2: 課堂進行 | G2: 是 | H2: 一般發票 | I2: 隨貨附上 | J2: 基隆市 | K2: 否 | L2: 主教 | M2: 是
A3: 北海岸 | B3: 國中 | C3: 否 | D3: 小二 | E3: 營隊 | F3: 週間但非課堂進行 | G3: 否 | H3: 一般發票,捐贈協會 | I3: 到區辦自取 | J3: 台北市 | K3: 啟聰 | L3: 助教 | M3: 否
A4: 桃園區 | B4: 教會 | D4: 小三 | E4: 工作坊 | F4: 過夜 | G4: 待查 | H4: 需抬頭 | J4: 新北市 | K4: 啟智
A5: 竹苗區 | B5: 社區 | D5: 小四 | E5: 講座 | F5: 不過夜 | H5: 需統編 | J5: 桃園市 | K5: 啟明
A6: 中彰投雲區 | B6: 機構 | D6: 混齡 | E6: 社團 | H6: 需抬頭與統編 | J6: 新竹市 | K6: 其他
A7: 嘉義區 | B7: 高中 | D7: 特殊族群 | H7: 其他需求 | J7: 新竹縣
A8: 台南區 | B8: 大學 | J8: 苗栗縣
A9: 高雄區 | B9: 企業 | J9: 台中市
A10: 屏東區 | B10: 其他 | J10: 彰化縣
A11: 花蓮區 | J11: 雲林縣
J12: 南投縣
J13: 嘉義縣
J14: 嘉義市
J15: 台南市
J16: 高雄市
J17: 屏東縣
J18: 宜蘭縣
J19: 花蓮縣
J20: 台東縣
J21: 連江縣
J22: 金門縣
J23: 澎湖縣
